BEGIN:VCALENDAR
VERSION:2.0
PRODID:SchoolNow
CALSCALE:GREGORIAN
BEGIN:VEVENT
UID:ad4a079c-81fa-11f0-89c3-0a58a9feac02
DTSTAMP:20251216T200046Z
SUMMARY:WHS Golf @ Booneville
URL;VALUE=URI:https://www.northtippah.org/calendar/8542476/whs-golf-boonevi
 lle
DTSTART:20250909T140000Z
DTEND:20250909T150000Z
END:VEVENT
END:VCALENDAR
