BEGIN:VCALENDAR
VERSION:2.0
PRODID:SchoolNow
CALSCALE:GREGORIAN
BEGIN:VEVENT
UID:ad4a0882-81fa-11f0-8d1f-0a58a9feac02
DTSTAMP:20251216T200046Z
SUMMARY:WHS Golf @ Hillandale
URL;VALUE=URI:https://www.northtippah.org/calendar/8542477/whs-golf-hilland
 ale
DTSTART:20250916T140000Z
DTEND:20250916T143000Z
END:VEVENT
END:VCALENDAR
