BEGIN:VCALENDAR
VERSION:2.0
PRODID:SchoolNow
CALSCALE:GREGORIAN
BEGIN:VEVENT
UID:ad4a0968-81fa-11f0-9db1-0a58a9feac02
DTSTAMP:20251216T200046Z
SUMMARY:WHS Golf @ Kossuth
URL;VALUE=URI:https://www.northtippah.org/calendar/8542478/whs-golf-kossuth
DTSTART:20250923T133000Z
DTEND:20250923T143000Z
END:VEVENT
END:VCALENDAR
