BEGIN:VCALENDAR
VERSION:2.0
PRODID:SchoolNow
CALSCALE:GREGORIAN
BEGIN:VEVENT
UID:ad4a0a4e-81fa-11f0-b5ec-0a58a9feac02
DTSTAMP:20251216T200046Z
SUMMARY:WHS Golf Boys District @ Saltillo
URL;VALUE=URI:https://www.northtippah.org/calendar/8542479/whs-golf-boys-di
 strict-saltillo
DTSTART;VALUE=DATE:20251014
DTEND;VALUE=DATE:20251015
END:VEVENT
END:VCALENDAR
