BEGIN:VCALENDAR
VERSION:2.0
PRODID:SchoolNow
CALSCALE:GREGORIAN
BEGIN:VEVENT
UID:ad4a0b34-81fa-11f0-941a-0a58a9feac02
DTSTAMP:20251216T200046Z
SUMMARY:WHS Football @ Baldwyn
URL;VALUE=URI:https://www.northtippah.org/calendar/8542480/whs-football-bal
 dwyn
DTSTART:20251031T000000Z
DTEND:20251031T010000Z
END:VEVENT
END:VCALENDAR
