BEGIN:VCALENDAR
VERSION:2.0
PRODID:SchoolNow
CALSCALE:GREGORIAN
BEGIN:VEVENT
UID:ad4a0c10-81fa-11f0-ab76-0a58a9feac02
DTSTAMP:20251216T200046Z
SUMMARY:WHS Jr Basketball vs Hills Chapel
URL;VALUE=URI:https://www.northtippah.org/calendar/8542481/whs-jr-basketbal
 l-vs-hills-chapel
DTSTART:20251103T233000Z
DTEND:20251104T003000Z
END:VEVENT
END:VCALENDAR
