BEGIN:VCALENDAR
VERSION:2.0
PRODID:SchoolNow
CALSCALE:GREGORIAN
BEGIN:VEVENT
UID:ad4a0cf6-81fa-11f0-8945-0a58a9feac02
DTSTAMP:20251216T200046Z
SUMMARY:WHS Jr Basketball @ Burnsville
URL;VALUE=URI:https://www.northtippah.org/calendar/8542482/whs-jr-basketbal
 l-burnsville
DTSTART:20251104T233000Z
DTEND:20251105T003000Z
END:VEVENT
END:VCALENDAR
