BEGIN:VCALENDAR
VERSION:2.0
PRODID:SchoolNow
CALSCALE:GREGORIAN
BEGIN:VEVENT
UID:ad4a0dd2-81fa-11f0-8c63-0a58a9feac02
DTSTAMP:20251216T200046Z
SUMMARY:WHS Jr Basketball @ Ingomar
URL;VALUE=URI:https://www.northtippah.org/calendar/8542483/whs-jr-basketbal
 l-ingomar
DTSTART:20251106T233000Z
DTEND:20251107T003000Z
END:VEVENT
END:VCALENDAR
