BEGIN:VCALENDAR
VERSION:2.0
PRODID:SchoolNow
CALSCALE:GREGORIAN
BEGIN:VEVENT
UID:ad4a0eae-81fa-11f0-a1fd-0a58a9feac02
DTSTAMP:20251216T200046Z
SUMMARY:WHS Jr Basketball vs Marietta
LOCATION:Chalybeate School\, 2471 MS-354\, Walnut\, MS 38683\, USA
URL;VALUE=URI:https://www.northtippah.org/calendar/8542484/whs-jr-basketbal
 l-vs-marietta
DTSTART:20251110T233000Z
DTEND:20251111T003000Z
END:VEVENT
END:VCALENDAR
