BEGIN:VCALENDAR
VERSION:2.0
PRODID:SchoolNow
CALSCALE:GREGORIAN
BEGIN:VEVENT
UID:ad4a0f8a-81fa-11f0-bb87-0a58a9feac02
DTSTAMP:20251216T200046Z
SUMMARY:WHS Jr Basketball @ Byhalia
URL;VALUE=URI:https://www.northtippah.org/calendar/8542485/whs-jr-basketbal
 l-byhalia
DTSTART:20251113T233000Z
DTEND:20251114T003000Z
END:VEVENT
END:VCALENDAR
