BEGIN:VCALENDAR
VERSION:2.0
PRODID:SchoolNow
CALSCALE:GREGORIAN
BEGIN:VEVENT
UID:ad4a105c-81fa-11f0-9ee8-0a58a9feac02
DTSTAMP:20251216T200046Z
SUMMARY:WHS Girls Basketball @ Biggersville
URL;VALUE=URI:https://www.northtippah.org/calendar/8542486/whs-girls-basket
 ball-biggersville
DTSTART;VALUE=DATE:20251115
DTEND;VALUE=DATE:20251116
END:VEVENT
END:VCALENDAR
