BEGIN:VCALENDAR
VERSION:2.0
PRODID:SchoolNow
CALSCALE:GREGORIAN
BEGIN:VEVENT
UID:ad4a112e-81fa-11f0-b95c-0a58a9feac02
DTSTAMP:20251216T200046Z
SUMMARY:WHS Jr Basketball @ Iuka
URL;VALUE=URI:https://www.northtippah.org/calendar/8542487/whs-jr-basketbal
 l-iuka
DTSTART:20251117T233000Z
DTEND:20251118T003000Z
END:VEVENT
END:VCALENDAR
