BEGIN:VCALENDAR
VERSION:2.0
PRODID:SchoolNow
CALSCALE:GREGORIAN
BEGIN:VEVENT
UID:ad4a120a-81fa-11f0-b56e-0a58a9feac02
DTSTAMP:20251216T200046Z
SUMMARY:WHS Jr Basketball  vs Pine Grove
LOCATION:Chalybeate School\, 2471 MS-354\, Walnut\, MS 38683\, USA
URL;VALUE=URI:https://www.northtippah.org/calendar/8542488/whs-jr-basketbal
 l-vs-pine-grove
DTSTART:20251120T233000Z
DTEND:20251121T003000Z
END:VEVENT
END:VCALENDAR
