BEGIN:VCALENDAR
VERSION:2.0
PRODID:SchoolNow
CALSCALE:GREGORIAN
BEGIN:VEVENT
UID:ad4a12dc-81fa-11f0-837d-0a58a9feac02
DTSTAMP:20251216T200046Z
SUMMARY:WHS Basketball @ Hickory Flat
URL;VALUE=URI:https://www.northtippah.org/calendar/8542489/whs-basketball-h
 ickory-flat
DTSTART;VALUE=DATE:20251124
DTEND;VALUE=DATE:20251126
END:VEVENT
END:VCALENDAR
