BEGIN:VCALENDAR
VERSION:2.0
PRODID:SchoolNow
CALSCALE:GREGORIAN
BEGIN:VEVENT
UID:ad4a13b8-81fa-11f0-9553-0a58a9feac02
DTSTAMP:20251216T200046Z
SUMMARY:WHS Jr Basketball @ Pine Grove
URL;VALUE=URI:https://www.northtippah.org/calendar/8542490/whs-jr-basketbal
 l-pine-grove
DTSTART:20251201T233000Z
DTEND:20251202T003000Z
END:VEVENT
END:VCALENDAR
