BEGIN:VCALENDAR
VERSION:2.0
PRODID:SchoolNow
CALSCALE:GREGORIAN
BEGIN:VEVENT
UID:ad4a148a-81fa-11f0-9ff4-0a58a9feac02
DTSTAMP:20251216T200046Z
SUMMARY:WHS Jr Basketball @ West Union
URL;VALUE=URI:https://www.northtippah.org/calendar/8542491/whs-jr-basketbal
 l-west-union
DTSTART:20251204T233000Z
DTEND:20251205T003000Z
END:VEVENT
END:VCALENDAR
