BEGIN:VCALENDAR
VERSION:2.0
PRODID:SchoolNow
CALSCALE:GREGORIAN
BEGIN:VEVENT
UID:ad4a15de-81fa-11f0-9c6b-0a58a9feac02
DTSTAMP:20251216T200046Z
SUMMARY:Jr High Basketball TCT @ Chalybeate
LOCATION:Chalybeate School\, 2471 MS-354\, Walnut\, MS 38683\, USA
URL;VALUE=URI:https://www.northtippah.org/calendar/8542492/jr-high-basketba
 ll-tct-chalybeate
DTSTART;VALUE=DATE:20251213
DTEND;VALUE=DATE:20251214
END:VEVENT
END:VCALENDAR
