BEGIN:VCALENDAR
VERSION:2.0
PRODID:SchoolNow
CALSCALE:GREGORIAN
BEGIN:VEVENT
UID:ad4a16c4-81fa-11f0-944f-0a58a9feac02
DTSTAMP:20251216T200046Z
SUMMARY:Jr High Basketball TCT @ Chalybeate
LOCATION:Chalybeate School\, 2471 MS-354\, Walnut\, MS 38683\, USA
URL;VALUE=URI:https://www.northtippah.org/calendar/8542493/jr-high-basketba
 ll-tct-chalybeate
DTSTART;VALUE=DATE:20251211
DTEND;VALUE=DATE:20251212
END:VEVENT
END:VCALENDAR
