BEGIN:VCALENDAR
VERSION:2.0
PRODID:SchoolNow
CALSCALE:GREGORIAN
BEGIN:VEVENT
UID:ad4a17a0-81fa-11f0-a2f4-0a58a9feac02
DTSTAMP:20251216T200046Z
SUMMARY:Jr. High Basketball TCT @ Chalybeate
LOCATION:Chalybeate School\, 2471 MS-354\, Walnut\, MS 38683\, USA
URL;VALUE=URI:https://www.northtippah.org/calendar/8542494/jr-high-basketba
 ll-tct-chalybeate
DTSTART:20251208T230000Z
DTEND:20251209T033000Z
END:VEVENT
END:VCALENDAR
