BEGIN:VCALENDAR
VERSION:2.0
PRODID:SchoolNow
CALSCALE:GREGORIAN
BEGIN:VEVENT
UID:ad4a187c-81fa-11f0-b854-0a58a9feac02
DTSTAMP:20251216T200046Z
SUMMARY:FHS Football Vs Thrasher (HC)
URL;VALUE=URI:https://www.northtippah.org/calendar/8542495/fhs-football-vs-
 thrasher-hc
DTSTART:20250920T000000Z
DTEND:20250920T020000Z
END:VEVENT
END:VCALENDAR
