BEGIN:VCALENDAR
VERSION:2.0
PRODID:SchoolNow
CALSCALE:GREGORIAN
BEGIN:VEVENT
UID:ad4a1958-81fa-11f0-bb05-0a58a9feac02
DTSTAMP:20251216T200046Z
SUMMARY:WHS  Basketball @ Kossuth
URL;VALUE=URI:https://www.northtippah.org/calendar/8542496/whs-basketball-k
 ossuth
DTSTART:20251111T220000Z
DTEND:20251111T230000Z
END:VEVENT
END:VCALENDAR
