BEGIN:VCALENDAR
VERSION:2.0
PRODID:SchoolNow
CALSCALE:GREGORIAN
BEGIN:VEVENT
UID:ad4a1a2a-81fa-11f0-85f7-0a58a9feac02
DTSTAMP:20251216T200046Z
SUMMARY:WHS Basketball vs Byhalia
URL;VALUE=URI:https://www.northtippah.org/calendar/8542497/whs-basketball-v
 s-byhalia
DTSTART:20251118T220000Z
DTEND:20251118T230000Z
END:VEVENT
END:VCALENDAR
