BEGIN:VCALENDAR
VERSION:2.0
PRODID:SchoolNow
CALSCALE:GREGORIAN
BEGIN:VEVENT
UID:ad4a1b1a-81fa-11f0-9102-0a58a9feac02
DTSTAMP:20251216T200046Z
SUMMARY:WHS Basketball @ Ripley
URL;VALUE=URI:https://www.northtippah.org/calendar/8542498/whs-basketball-r
 ipley
DTSTART:20251121T220000Z
DTEND:20251121T230000Z
END:VEVENT
END:VCALENDAR
