BEGIN:VCALENDAR
VERSION:2.0
PRODID:SchoolNow
CALSCALE:GREGORIAN
BEGIN:VEVENT
UID:ad4a1c1e-81fa-11f0-af5f-0a58a9feac02
DTSTAMP:20251216T200046Z
SUMMARY:WHS Basketball @ Mooreville
URL;VALUE=URI:https://www.northtippah.org/calendar/8542499/whs-basketball-m
 ooreville
DTSTART:20251202T220000Z
DTEND:20251202T230000Z
END:VEVENT
END:VCALENDAR
