BEGIN:VCALENDAR
VERSION:2.0
PRODID:SchoolNow
CALSCALE:GREGORIAN
BEGIN:VEVENT
UID:ad4a1dfe-81fa-11f0-8849-0a58a9feac02
DTSTAMP:20251216T200046Z
SUMMARY:WHS Basketball @ Myrtle
URL;VALUE=URI:https://www.northtippah.org/calendar/8542501/whs-basketball-m
 yrtle
DTSTART:20251212T220000Z
DTEND:20251212T230000Z
END:VEVENT
END:VCALENDAR
