BEGIN:VCALENDAR
VERSION:2.0
PRODID:SchoolNow
CALSCALE:GREGORIAN
BEGIN:VEVENT
UID:ad4a1eda-81fa-11f0-af36-0a58a9feac02
DTSTAMP:20251216T200046Z
SUMMARY:WHS Jr Basketball @ Tishomingo
URL;VALUE=URI:https://www.northtippah.org/calendar/8542502/whs-jr-basketbal
 l-tishomingo
DTSTART:20251215T233000Z
DTEND:20251216T003000Z
END:VEVENT
END:VCALENDAR
