BEGIN:VCALENDAR
VERSION:2.0
PRODID:SchoolNow
CALSCALE:GREGORIAN
BEGIN:VEVENT
UID:ad4a1fb6-81fa-11f0-a146-0a58a9feac02
DTSTAMP:20251216T200046Z
SUMMARY:WHS Basektball @ Corinth
URL;VALUE=URI:https://www.northtippah.org/calendar/8542503/whs-basektball-c
 orinth
DTSTART:20251216T220000Z
DTEND:20251216T230000Z
END:VEVENT
END:VCALENDAR
