BEGIN:VCALENDAR
VERSION:2.0
PRODID:SchoolNow
CALSCALE:GREGORIAN
BEGIN:VEVENT
UID:ad4a2092-81fa-11f0-b4a6-0a58a9feac02
DTSTAMP:20251216T200046Z
SUMMARY:WHS Basketball @ Peggy Bain @ AC
URL;VALUE=URI:https://www.northtippah.org/calendar/8542504/whs-basketball-p
 eggy-bain-ac
DTSTART;VALUE=DATE:20251229
DTEND;VALUE=DATE:20251231
END:VEVENT
END:VCALENDAR
