BEGIN:VCALENDAR
VERSION:2.0
PRODID:SchoolNow
CALSCALE:GREGORIAN
BEGIN:VEVENT
UID:ad6af8ee-81fa-11f0-bd08-0a58a9feac02
DTSTAMP:20251216T200046Z
SUMMARY:WHS Basketball Vs Thrasher
URL;VALUE=URI:https://www.northtippah.org/calendar/8542505/whs-basketball-v
 s-thrasher
DTSTART:20260102T000000Z
DTEND:20260102T010000Z
END:VEVENT
END:VCALENDAR
