BEGIN:VCALENDAR
VERSION:2.0
PRODID:SchoolNow
CALSCALE:GREGORIAN
BEGIN:VEVENT
UID:ad6afd3a-81fa-11f0-b8a9-0a58a9feac02
DTSTAMP:20251216T200046Z
SUMMARY:WHS Basketball vs Belmont
URL;VALUE=URI:https://www.northtippah.org/calendar/8542506/whs-basketball-v
 s-belmont
DTSTART:20260106T220000Z
DTEND:20260106T230000Z
END:VEVENT
END:VCALENDAR
