BEGIN:VCALENDAR
VERSION:2.0
PRODID:SchoolNow
CALSCALE:GREGORIAN
BEGIN:VEVENT
UID:ad6afe98-81fa-11f0-82a4-0a58a9feac02
DTSTAMP:20251216T200046Z
SUMMARY:WHS Basketball vs Baldwyn
URL;VALUE=URI:https://www.northtippah.org/calendar/8542507/whs-basketball-v
 s-baldwyn
DTSTART:20260114T000000Z
DTEND:20260114T010000Z
END:VEVENT
END:VCALENDAR
