BEGIN:VCALENDAR
VERSION:2.0
PRODID:SchoolNow
CALSCALE:GREGORIAN
BEGIN:VEVENT
UID:ad6affce-81fa-11f0-b0f8-0a58a9feac02
DTSTAMP:20251216T200046Z
SUMMARY:WHS Basketball vs Hamilton
URL;VALUE=URI:https://www.northtippah.org/calendar/8542508/whs-basketball-v
 s-hamilton
DTSTART:20260117T000000Z
DTEND:20260117T010000Z
END:VEVENT
END:VCALENDAR
