BEGIN:VCALENDAR
VERSION:2.0
PRODID:SchoolNow
CALSCALE:GREGORIAN
BEGIN:VEVENT
UID:ad6b0302-81fa-11f0-b3da-0a58a9feac02
DTSTAMP:20251216T200046Z
SUMMARY:WHS Boys Basketball @ Hotbed - NA
URL;VALUE=URI:https://www.northtippah.org/calendar/8542511/whs-boys-basketb
 all-hotbed-na
DTSTART;VALUE=DATE:20260124
DTEND;VALUE=DATE:20260125
END:VEVENT
END:VCALENDAR
