BEGIN:VCALENDAR
VERSION:2.0
PRODID:SchoolNow
CALSCALE:GREGORIAN
BEGIN:VEVENT
UID:ad6b03fc-81fa-11f0-9b9e-0a58a9feac02
DTSTAMP:20251216T200046Z
SUMMARY:WHS Basketball @ New Site
URL;VALUE=URI:https://www.northtippah.org/calendar/8542512/whs-basketball-n
 ew-site
DTSTART:20260128T000000Z
DTEND:20260128T010000Z
END:VEVENT
END:VCALENDAR
