BEGIN:VCALENDAR
VERSION:2.0
PRODID:SchoolNow
CALSCALE:GREGORIAN
BEGIN:VEVENT
UID:ad6b04ec-81fa-11f0-a40f-0a58a9feac02
DTSTAMP:20251216T200046Z
SUMMARY:WHS Basketball @ Ashland
URL;VALUE=URI:https://www.northtippah.org/calendar/8542513/whs-basketball-a
 shland
DTSTART:20260131T000000Z
DTEND:20260131T010000Z
END:VEVENT
END:VCALENDAR
