BEGIN:VCALENDAR
VERSION:2.0
PRODID:SchoolNow
CALSCALE:GREGORIAN
BEGIN:VEVENT
UID:ad6b091a-81fa-11f0-9a95-0a58a9feac02
DTSTAMP:20251216T200046Z
SUMMARY:WHS Tennis vs Wheeler
URL;VALUE=URI:https://www.northtippah.org/calendar/8542517/whs-tennis-vs-wh
 eeler
DTSTART:20260303T220000Z
DTEND:20260303T230000Z
END:VEVENT
END:VCALENDAR
