BEGIN:VCALENDAR
VERSION:2.0
PRODID:SchoolNow
CALSCALE:GREGORIAN
BEGIN:VEVENT
UID:a5d73d06-8293-11f0-9739-0a58a9feac02
DTSTAMP:20251216T200046Z
SUMMARY:WHS Basketball @ Nettleton
URL;VALUE=URI:https://www.northtippah.org/calendar/8545636/whs-basketball-n
 ettleton
DTSTART:20251108T180000Z
DTEND:20251108T190000Z
END:VEVENT
END:VCALENDAR
