BEGIN:VCALENDAR
VERSION:2.0
PRODID:SchoolNow
CALSCALE:GREGORIAN
BEGIN:VEVENT
UID:a5d75bc4-8293-11f0-ba0a-0a58a9feac02
DTSTAMP:20251216T200046Z
SUMMARY:WHS Basketball vs Ingomar
URL;VALUE=URI:https://www.northtippah.org/calendar/8545637/whs-basketball-v
 s-ingomar
DTSTART:20251209T220000Z
DTEND:20251209T230000Z
END:VEVENT
END:VCALENDAR
