BEGIN:VCALENDAR
VERSION:2.0
PRODID:SchoolNow
CALSCALE:GREGORIAN
BEGIN:VEVENT
UID:a5d75d4a-8293-11f0-9cef-0a58a9feac02
DTSTAMP:20251216T200046Z
SUMMARY:WHS Basketball @ Gerald Snyder Classic
LOCATION:Northeast Mississippi Community College\, 101 Cunningham Blvd\, Bo
 oneville\, MS 38829\, USA
URL;VALUE=URI:https://www.northtippah.org/calendar/8545638/whs-basketball-g
 erald-snyder-classic
DTSTART:20251219T180000Z
DTEND:20251219T190000Z
END:VEVENT
END:VCALENDAR
