BEGIN:VCALENDAR
VERSION:2.0
PRODID:SchoolNow
CALSCALE:GREGORIAN
BEGIN:VEVENT
UID:a5d75f02-8293-11f0-81fa-0a58a9feac02
DTSTAMP:20251216T200046Z
SUMMARY:WHS Basketball vs Thrasher
URL;VALUE=URI:https://www.northtippah.org/calendar/8545639/whs-basketball-v
 s-thrasher
DTSTART:20260103T000000Z
DTEND:20260103T010000Z
END:VEVENT
END:VCALENDAR
