BEGIN:VCALENDAR
VERSION:2.0
PRODID:SchoolNow
CALSCALE:GREGORIAN
BEGIN:VEVENT
UID:a5d7601a-8293-11f0-a09f-0a58a9feac02
DTSTAMP:20251216T200046Z
SUMMARY:WHS Basketball @ Grind to Shine
URL;VALUE=URI:https://www.northtippah.org/calendar/8545640/whs-basketball-g
 rind-to-shine
DTSTART;VALUE=DATE:20260103
DTEND;VALUE=DATE:20260104
END:VEVENT
END:VCALENDAR
