BEGIN:VCALENDAR
VERSION:2.0
PRODID:SchoolNow
CALSCALE:GREGORIAN
BEGIN:VEVENT
UID:a5d7613c-8293-11f0-810b-0a58a9feac02
DTSTAMP:20251216T200046Z
SUMMARY:WHS Football @ Hamilton
URL;VALUE=URI:https://www.northtippah.org/calendar/8545641/whs-football-ham
 ilton
DTSTART:20251018T000000Z
DTEND:20251018T010000Z
END:VEVENT
END:VCALENDAR
