BEGIN:VCALENDAR
VERSION:2.0
PRODID:SchoolNow
CALSCALE:GREGORIAN
BEGIN:VEVENT
UID:a5d76236-8293-11f0-ac58-0a58a9feac02
DTSTAMP:20251216T200046Z
SUMMARY:WHS Kinder-Christmas Program
URL;VALUE=URI:https://www.northtippah.org/calendar/8545642/whs-kinder-chris
 tmas-program
DTSTART:20251215T190000Z
DTEND:20251215T200000Z
END:VEVENT
END:VCALENDAR
