BEGIN:VCALENDAR
VERSION:2.0
PRODID:SchoolNow
CALSCALE:GREGORIAN
BEGIN:VEVENT
UID:5a8e96fc-8e53-11f0-858e-0afff086d01d
DTSTAMP:20251216T200046Z
SUMMARY:WHS Volleyball @ Tupelo
URL;VALUE=URI:https://www.northtippah.org/calendar/8604897/whs-volleyball-t
 upelo
DTSTART;VALUE=DATE:20250913
DTEND;VALUE=DATE:20250914
END:VEVENT
END:VCALENDAR
