BEGIN:VCALENDAR
VERSION:2.0
PRODID:SchoolNow
CALSCALE:GREGORIAN
BEGIN:VEVENT
UID:356c1010-aace-11f0-82ff-0a58a9feac02
DTSTAMP:20251216T200046Z
SUMMARY:FJHS- Basketball Vs Blue Mountain
URL;VALUE=URI:https://www.northtippah.org/calendar/8727638/fjhs-basketball-
 vs-blue-mountain
DTSTART:20251016T220000Z
DTEND:20251017T000000Z
END:VEVENT
END:VCALENDAR
