BEGIN:VCALENDAR
VERSION:2.0
PRODID:SchoolNow
CALSCALE:GREGORIAN
BEGIN:VEVENT
UID:356c13ee-aace-11f0-923f-0a58a9feac02
DTSTAMP:20251216T200046Z
SUMMARY:FJHS- Basketball @ Jumpertown
URL;VALUE=URI:https://www.northtippah.org/calendar/8727639/fjhs-basketball-
 jumpertown
DTSTART:20251014T220000Z
DTEND:20251015T010000Z
END:VEVENT
END:VCALENDAR
