BEGIN:VCALENDAR
VERSION:2.0
PRODID:SchoolNow
CALSCALE:GREGORIAN
BEGIN:VEVENT
UID:64a1bdde-ad31-11f0-b3e3-0286b9159d3b
DTSTAMP:20251216T200046Z
SUMMARY:FJHS Basketball Vs. Hickory Flat
URL;VALUE=URI:https://www.northtippah.org/calendar/8734476/fjhs-basketball-
 vs-hickory-flat
DTSTART:20251020T223000Z
DTEND:20251021T003000Z
END:VEVENT
END:VCALENDAR
