BEGIN:VCALENDAR
VERSION:2.0
PRODID:SchoolNow
CALSCALE:GREGORIAN
BEGIN:VEVENT
UID:64a1dc74-ad31-11f0-b4cc-0286b9159d3b
DTSTAMP:20251216T200046Z
SUMMARY:FJHS Basketball @ TCPS
URL;VALUE=URI:https://www.northtippah.org/calendar/8734477/fjhs-basketball-
 tcps
DTSTART:20251024T223000Z
DTEND:20251025T003000Z
END:VEVENT
END:VCALENDAR
