BEGIN:VCALENDAR
VERSION:2.0
PRODID:SchoolNow
CALSCALE:GREGORIAN
BEGIN:VEVENT
UID:e63f21b0-b349-11f0-bb8d-0a58a9feac02
DTSTAMP:20251216T200046Z
SUMMARY:FJHS Basketball @ Potts Camp
URL;VALUE=URI:https://www.northtippah.org/calendar/8754194/fjhs-basketball-
 potts-camp
DTSTART:20251027T223000Z
DTEND:20251028T013000Z
END:VEVENT
END:VCALENDAR
