BEGIN:VCALENDAR
VERSION:2.0
PRODID:SchoolNow
CALSCALE:GREGORIAN
BEGIN:VEVENT
UID:5ab4951e-bdd8-11f0-a594-02c3304d2b5f
DTSTAMP:20251216T200046Z
SUMMARY:FHS  Football 2nd Round Vs Okolona
URL;VALUE=URI:https://www.northtippah.org/calendar/8786770/fhs-football-2nd
 -round-vs-okolona
DTSTART:20251115T010000Z
DTEND:20251115T040000Z
END:VEVENT
END:VCALENDAR
